BEGIN:VCALENDAR
VERSION:2.0
PRODID:-//Panama City Seventh-day Adventist Church - ECPv6.15.14//NONSGML v1.0//EN
CALSCALE:GREGORIAN
METHOD:PUBLISH
X-WR-CALNAME:Panama City Seventh-day Adventist Church
X-ORIGINAL-URL:https://panamacitysda.com
X-WR-CALDESC:Events for Panama City Seventh-day Adventist Church
REFRESH-INTERVAL;VALUE=DURATION:PT1H
X-Robots-Tag:noindex
X-PUBLISHED-TTL:PT1H
BEGIN:VTIMEZONE
TZID:UTC
BEGIN:STANDARD
TZOFFSETFROM:+0000
TZOFFSETTO:+0000
TZNAME:UTC
DTSTART:20240101T000000
END:STANDARD
END:VTIMEZONE
BEGIN:VEVENT
DTSTART;TZID=UTC:20250521T180000
DTEND;TZID=UTC:20250521T180000
DTSTAMP:20260423T103014
CREATED:20240502T172807Z
LAST-MODIFIED:20250516T125449Z
UID:35081-1747850400-1747850400@panamacitysda.com
SUMMARY:Pathfinder Club
DESCRIPTION:The Pathfinder Club is a church-based program similar to scouts\, designed for young people ages 10 to 15. It focuses on the holistic development of youth—mental\, physical\, and spiritual—through fun activities like camping\, hiking\, crafts\, and community service\, while also teaching important life skills and values such as leadership\, teamwork\, and respect for others. Though rooted in the Christian faith\, the club welcomes participants from all backgrounds and emphasizes character-building\, practical learning\, and service to both God and community.
URL:https://panamacitysda.com/event/pathfinder-club/
LOCATION:Church\, 2700 Lisenby Ave\, Panama City\, FL 32405\, NY\, 10118
CATEGORIES:Weekly
ATTACH;FMTTYPE=image/jpeg:https://panamacitysda.com/wp-content/uploads/2024/05/382987860_10160784674978609_955531105984617678_n.jpeg
END:VEVENT
END:VCALENDAR