BEGIN:VCALENDAR
VERSION:2.0
PRODID:-//Panama City Seventh-day Adventist Church - ECPv6.15.14//NONSGML v1.0//EN
CALSCALE:GREGORIAN
METHOD:PUBLISH
X-WR-CALNAME:Panama City Seventh-day Adventist Church
X-ORIGINAL-URL:https://panamacitysda.com
X-WR-CALDESC:Events for Panama City Seventh-day Adventist Church
REFRESH-INTERVAL;VALUE=DURATION:PT1H
X-Robots-Tag:noindex
X-PUBLISHED-TTL:PT1H
BEGIN:VTIMEZONE
TZID:UTC
BEGIN:STANDARD
TZOFFSETFROM:+0000
TZOFFSETTO:+0000
TZNAME:UTC
DTSTART:20240101T000000
END:STANDARD
END:VTIMEZONE
BEGIN:VEVENT
DTSTART;TZID=UTC:20250524T180000
DTEND;TZID=UTC:20250524T180000
DTSTAMP:20260420T101911
CREATED:20240503T151743Z
LAST-MODIFIED:20250519T083255Z
UID:31007-1748109600-1748109600@panamacitysda.com
SUMMARY:Vespers Program
DESCRIPTION:The Vespers Program is a special evening gathering that marks the close of the Sabbath with reflection\, fellowship\, and spiritual renewal. It’s a time to pause\, express gratitude for God’s blessings throughout the week\, and be encouraged through music\, testimonies\, and a short devotional message. This quiet and meaningful service helps us transition from Sabbath rest into a new week with peace and purpose. Everyone is welcome to join as we end the Sabbath together in worship and unity.
URL:https://panamacitysda.com/event/vespers-program/
LOCATION:Church\, 2700 Lisenby Ave\, Panama City\, FL 32405\, NY\, 10118
CATEGORIES:Weekly
ATTACH;FMTTYPE=image/webp:https://panamacitysda.com/wp-content/uploads/2025/04/our-family-1.webp
END:VEVENT
END:VCALENDAR