BEGIN:VCALENDAR
VERSION:2.0
PRODID:-//Panama City Seventh-day Adventist Church - ECPv6.15.14//NONSGML v1.0//EN
CALSCALE:GREGORIAN
METHOD:PUBLISH
X-WR-CALNAME:Panama City Seventh-day Adventist Church
X-ORIGINAL-URL:https://panamacitysda.com
X-WR-CALDESC:Events for Panama City Seventh-day Adventist Church
REFRESH-INTERVAL;VALUE=DURATION:PT1H
X-Robots-Tag:noindex
X-PUBLISHED-TTL:PT1H
BEGIN:VTIMEZONE
TZID:UTC
BEGIN:STANDARD
TZOFFSETFROM:+0000
TZOFFSETTO:+0000
TZNAME:UTC
DTSTART:20240101T000000
END:STANDARD
END:VTIMEZONE
BEGIN:VEVENT
DTSTART;TZID=UTC:20250524T103500
DTEND;TZID=UTC:20250524T103500
DTSTAMP:20260420T121246
CREATED:20250519T083821Z
LAST-MODIFIED:20250519T083954Z
UID:38295-1748082900-1748082900@panamacitysda.com
SUMMARY:Worship Service
DESCRIPTION:The Worship Service is the central gathering of our church each Sabbath\, where we come together as a community to honor God through praise\, prayer\, Scripture\, and the preaching of the Word. It is a sacred time set apart to lift our hearts in worship\, grow in our understanding of God’s will\, and respond to His grace with faith and obedience. From the opening song to the final benediction\, each element of the service is designed to lead us into a deeper experience with Jesus Christ. All are welcome to join us as we seek God’s presence\, celebrate His goodness\, and are renewed for the week ahead.
URL:https://panamacitysda.com/event/worship-service-2/
CATEGORIES:Weekly
ATTACH;FMTTYPE=image/jpeg:https://panamacitysda.com/wp-content/uploads/2024/04/464128996_10161592505633609_1478437707126072573_n.jpg
END:VEVENT
END:VCALENDAR